BEGIN:VCALENDAR
VERSION:2.0
PRODID:spatie/icalendar-generator
NAME:Aqua-valley
X-WR-CALNAME:Aqua-valley
BEGIN:VTIMEZONE
TZID:UTC
BEGIN:STANDARD
DTSTART:20240830T083000Z
TZOFFSETFROM:+0000
TZOFFSETTO:+0000
END:STANDARD
END:VTIMEZONE
BEGIN:VEVENT
UID:69e74a637ddb8
DTSTAMP:20260421T095859Z
SUMMARY:Matinée technique dans l'Aude : la tarification de l'eau
DESCRIPTION:Envisager la tarification : entre enjeux\, modèles et solution
 s pour une gestion durable de la ressource... réservé aux collectivités
LOCATION:Carcassonne\, Maison Départementale des Sports
DTSTART:20250527T083000Z
DTEND:20250527T120000Z
BEGIN:VALARM
ACTION:DISPLAY
DESCRIPTION:Matinée technique dans l'Aude : la tarification de l'eau va bi
 entôt commencer
TRIGGER:-PT30M
END:VALARM
END:VEVENT
END:VCALENDAR