BEGIN:VCALENDAR
VERSION:2.0
PRODID:spatie/icalendar-generator
NAME:Aqua-valley
X-WR-CALNAME:Aqua-valley
BEGIN:VTIMEZONE
TZID:UTC
BEGIN:STANDARD
DTSTART:20241227T083000Z
TZOFFSETFROM:+0000
TZOFFSETTO:+0000
END:STANDARD
END:VTIMEZONE
BEGIN:VEVENT
UID:69e8be444f03b
DTSTAMP:20260422T122540Z
SUMMARY:Rencontre technique dans le Gard : La tarification de l'eau
DESCRIPTION:La prochaine journée technique dans le département du Gard au
 ra lieu le 23 septembre 2025 à Nîmes et portera sur \"Envisager la tarif
 ication : entre enjeux\, modèles et solutions pour une gestion durable de
  la ressource\".
LOCATION:Nîmes
DTSTART:20250923T083000Z
DTEND:20250923T120000Z
BEGIN:VALARM
ACTION:DISPLAY
DESCRIPTION:Rencontre technique dans le Gard : La tarification de l'eau va 
 bientôt commencer
TRIGGER:-PT30M
END:VALARM
END:VEVENT
END:VCALENDAR