BEGIN:VCALENDAR
VERSION:2.0
PRODID:spatie/icalendar-generator
NAME:Aqua-valley
X-WR-CALNAME:Aqua-valley
BEGIN:VTIMEZONE
TZID:UTC
BEGIN:STANDARD
DTSTART:20250210T000000Z
TZOFFSETFROM:+0000
TZOFFSETTO:+0000
END:STANDARD
END:VTIMEZONE
BEGIN:VEVENT
UID:69e8fc338ed5a
DTSTAMP:20260422T164955Z
SUMMARY:SALON DES COMMUNES ET DES TERRITOIRES DE L'AUDE 2025
DESCRIPTION:Retrouvez les adhérents du pôle sur le Salon des Communes et 
 des Territoires de l'Aude\, un salon dédié aux actions et aux préoccupa
 tions des collectivités et des organismes publics est le rendez-vous des 
 élus et des décideurs qui préparent l’avenir de nos communes et terri
 toires.
LOCATION:Limoux
DTSTART:20251107T000000Z
DTEND:20251107T000000Z
BEGIN:VALARM
ACTION:DISPLAY
DESCRIPTION:SALON DES COMMUNES ET DES TERRITOIRES DE L'AUDE 2025 va bientô
 t commencer
TRIGGER:-PT30M
END:VALARM
END:VEVENT
END:VCALENDAR