BEGIN:VCALENDAR
VERSION:2.0
PRODID:spatie/icalendar-generator
NAME:Aqua-valley
X-WR-CALNAME:Aqua-valley
BEGIN:VTIMEZONE
TZID:UTC
BEGIN:STANDARD
DTSTART:20250208T084500Z
TZOFFSETFROM:+0000
TZOFFSETTO:+0000
END:STANDARD
END:VTIMEZONE
BEGIN:VEVENT
UID:69e8a04471ed2
DTSTAMP:20260422T101740Z
SUMMARY:Visite de sites GIEP dans les Pyrénées-Orientales\, le 5 novembre
  2025
DESCRIPTION:Une journée de visite de sites portant sur la Gestion Intégr
 ée des Eaux Pluviales (GIEP) se tiendra le 5 novembre 2025 dans le dépar
 tement des Pyrénées-Orientales. 
LOCATION:Torreilles
DTSTART:20251105T084500Z
DTEND:20251105T173000Z
BEGIN:VALARM
ACTION:DISPLAY
DESCRIPTION:Visite de sites GIEP dans les Pyrénées-Orientales\, le 5 nove
 mbre 2025 va bientôt commencer
TRIGGER:-PT30M
END:VALARM
END:VEVENT
END:VCALENDAR