BEGIN:VCALENDAR
VERSION:2.0
PRODID:spatie/icalendar-generator
NAME:Aqua-valley
X-WR-CALNAME:Aqua-valley
BEGIN:VTIMEZONE
TZID:UTC
BEGIN:STANDARD
DTSTART:20250509T143000Z
TZOFFSETFROM:+0000
TZOFFSETTO:+0000
END:STANDARD
END:VTIMEZONE
BEGIN:VEVENT
UID:69e754b45a5a4
DTSTAMP:20260421T104300Z
SUMMARY:Atelier Sérious Game & Rencontre Res'Eau - 3 février
DESCRIPTION:Temps d'échange et de networking entre adhérents et partenair
 es du projet CLEPSYDRA
LOCATION:Montpellier
DTSTART:20260203T143000Z
DTEND:20260203T180000Z
BEGIN:VALARM
ACTION:DISPLAY
DESCRIPTION:Atelier Sérious Game & Rencontre Res'Eau - 3 février va bient
 ôt commencer
TRIGGER:-PT30M
END:VALARM
END:VEVENT
END:VCALENDAR