BEGIN:VCALENDAR
VERSION:2.0
PRODID:spatie/icalendar-generator
NAME:Aqua-valley
X-WR-CALNAME:Aqua-valley
BEGIN:VTIMEZONE
TZID:UTC
BEGIN:STANDARD
DTSTART:20250726T153732Z
TZOFFSETFROM:+0000
TZOFFSETTO:+0000
END:STANDARD
END:VTIMEZONE
BEGIN:VEVENT
UID:69e8eb3c1cb98
DTSTAMP:20260422T153732Z
SUMMARY:Journée filière Éolien en mer flottant Wind'Occ  &  Convention d
 'affaires BtoSea
LOCATION:Port La Nouvelle
DTSTART:20260602T000000Z
DTEND:20260602T180000Z
BEGIN:VALARM
ACTION:DISPLAY
DESCRIPTION:Journée filière Éolien en mer flottant Wind'Occ  &  Conventi
 on d'affaires BtoSea va bientôt commencer
TRIGGER:-PT30M
END:VALARM
END:VEVENT
END:VCALENDAR