BEGIN:VCALENDAR
VERSION:2.0
PRODID:spatie/icalendar-generator
NAME:Aqua-valley
X-WR-CALNAME:Aqua-valley
BEGIN:VTIMEZONE
TZID:UTC
BEGIN:STANDARD
DTSTART:20211219T000000Z
TZOFFSETFROM:+0000
TZOFFSETTO:+0000
END:STANDARD
END:VTIMEZONE
BEGIN:VEVENT
UID:69e8a51d812ce
DTSTAMP:20260422T103821Z
SUMMARY:JOURNÉE TECHNIQUE • GESTION DU STRESS HYDRIQUE PAR L'UTILISATION
  DES EAUX NON-CONVENTIONELLES
LOCATION:Lyon
URL:https://my.weezevent.com/jt-gestion-du-stress-hydrique-par-lutilisation
 -des-eaux-non-conventionnelles
DTSTART:20220915T080000Z
DTEND:20220915T000000Z
BEGIN:VALARM
ACTION:DISPLAY
DESCRIPTION:JOURNÉE TECHNIQUE • GESTION DU STRESS HYDRIQUE PAR L'UTILISA
 TION DES EAUX NON-CONVENTIONELLES va bientôt commencer
TRIGGER:-PT30M
END:VALARM
END:VEVENT
END:VCALENDAR