BEGIN:VCALENDAR
VERSION:2.0
PRODID:spatie/icalendar-generator
NAME:Aqua-valley
X-WR-CALNAME:Aqua-valley
BEGIN:VTIMEZONE
TZID:UTC
BEGIN:STANDARD
DTSTART:20220901T090000Z
TZOFFSETFROM:+0000
TZOFFSETTO:+0000
END:STANDARD
END:VTIMEZONE
BEGIN:VEVENT
UID:69e8a95ee9fb5
DTSTAMP:20260422T105630Z
SUMMARY:Opportunités commerciales en Amérique Latine
LOCATION:Bolivie - Paraguay
DTSTART:20230529T090000Z
DTEND:20230602T180000Z
BEGIN:VALARM
ACTION:DISPLAY
DESCRIPTION:Opportunités commerciales en Amérique Latine va bientôt comm
 encer
TRIGGER:-PT30M
END:VALARM
END:VEVENT
END:VCALENDAR